BEGIN:VCALENDAR
METHOD:PUBLISH
PRODID:-//doubleknot.com//CalenderEvent MIMEDIR//EN
VERSION:2.0
BEGIN:VEVENT
UID:3142587-20260509T160000Z-20260509T173000Z@doubleknot.com
CREATED:20260406T213234Z
LAST-MODIFIED:20260406T225941Z
DTSTAMP:20260424T025336Z
DTSTART:20260509T160000Z
DTEND:20260509T173000Z
LOCATION:1001 E. Clinton St., Hobbs, NM 88240, US
CATEGORIES:
DESCRIPTION:Join Girl Scouts of the Desert Southwest for an outdoor experience that celebrates how art shares a message - one that can be meaningful, spark solutions, and make a difference. During this program, Brownies will explore how makers turn ideas into expressive art and thoughtful design projects, discovering the power of creativity and the impact it can have along the way. \n  \n  \n What you will do: \n  \n  \n  \n 	Explore art and design by learning from a guest speaker \n 	Learn about composition by exploring patterns and symmetry \n 	Make portraits based on a fun subject \n  \n  \n  \n  \n  \n 
SUMMARY:Making Art with Mixed Media - Hobbs
PRIORITY:5
BEGIN:VALARM
TRIGGER:PT15M
ACTION:DISPLAY
DESCRIPTION:Reminder
PRIORITY:5
END:VALARM
END:VEVENT
END:VCALENDAR
